BEGIN:VCALENDAR
VERSION:2.0
PRODID:-//FC Eiche Sippersfeld e.V. - ECPv6.15.20//NONSGML v1.0//EN
CALSCALE:GREGORIAN
METHOD:PUBLISH
X-ORIGINAL-URL:https://www.fc-eiche-sippersfeld.de
X-WR-CALDESC:Veranstaltungen für FC Eiche Sippersfeld e.V.
REFRESH-INTERVAL;VALUE=DURATION:PT1H
X-Robots-Tag:noindex
X-PUBLISHED-TTL:PT1H
BEGIN:VTIMEZONE
TZID:Europe/Berlin
BEGIN:DAYLIGHT
TZOFFSETFROM:+0100
TZOFFSETTO:+0200
TZNAME:CEST
DTSTART:20250330T010000
END:DAYLIGHT
BEGIN:STANDARD
TZOFFSETFROM:+0200
TZOFFSETTO:+0100
TZNAME:CET
DTSTART:20251026T010000
END:STANDARD
BEGIN:DAYLIGHT
TZOFFSETFROM:+0100
TZOFFSETTO:+0200
TZNAME:CEST
DTSTART:20260329T010000
END:DAYLIGHT
BEGIN:STANDARD
TZOFFSETFROM:+0200
TZOFFSETTO:+0100
TZNAME:CET
DTSTART:20261025T010000
END:STANDARD
BEGIN:DAYLIGHT
TZOFFSETFROM:+0100
TZOFFSETTO:+0200
TZNAME:CEST
DTSTART:20270328T010000
END:DAYLIGHT
BEGIN:STANDARD
TZOFFSETFROM:+0200
TZOFFSETTO:+0100
TZNAME:CET
DTSTART:20271031T010000
END:STANDARD
END:VTIMEZONE
BEGIN:VEVENT
DTSTART;TZID=Europe/Berlin:20260222T143000
DTEND;TZID=Europe/Berlin:20260222T170000
DTSTAMP:20260420T200750
CREATED:20260212T055037Z
LAST-MODIFIED:20260212T055037Z
UID:5564-1771770600-1771779600@www.fc-eiche-sippersfeld.de
SUMMARY:SG Eiche vs. SG Mannweiler
DESCRIPTION:
URL:https://www.fc-eiche-sippersfeld.de/event/sg-eiche-vs-sg-mannweiler/
LOCATION:Sportplatzstraße 5\, 67729 Sippersfeld\, Sportplatzstraße 5\, Sippersfeld\, 67729\, Germany
CATEGORIES:Spiel
ATTACH;FMTTYPE=image/jpeg:https://www.fc-eiche-sippersfeld.de/wp-content/uploads/1111.jpg
END:VEVENT
END:VCALENDAR