BEGIN:VCALENDAR
VERSION:2.0
PRODID:-//FC Eiche Sippersfeld e.V. - ECPv6.15.20//NONSGML v1.0//EN
CALSCALE:GREGORIAN
METHOD:PUBLISH
X-WR-CALNAME:FC Eiche Sippersfeld e.V.
X-ORIGINAL-URL:https://www.fc-eiche-sippersfeld.de
X-WR-CALDESC:Veranstaltungen für FC Eiche Sippersfeld e.V.
REFRESH-INTERVAL;VALUE=DURATION:PT1H
X-Robots-Tag:noindex
X-PUBLISHED-TTL:PT1H
BEGIN:VTIMEZONE
TZID:Europe/Berlin
BEGIN:DAYLIGHT
TZOFFSETFROM:+0100
TZOFFSETTO:+0200
TZNAME:CEST
DTSTART:20250330T010000
END:DAYLIGHT
BEGIN:STANDARD
TZOFFSETFROM:+0200
TZOFFSETTO:+0100
TZNAME:CET
DTSTART:20251026T010000
END:STANDARD
BEGIN:DAYLIGHT
TZOFFSETFROM:+0100
TZOFFSETTO:+0200
TZNAME:CEST
DTSTART:20260329T010000
END:DAYLIGHT
BEGIN:STANDARD
TZOFFSETFROM:+0200
TZOFFSETTO:+0100
TZNAME:CET
DTSTART:20261025T010000
END:STANDARD
BEGIN:DAYLIGHT
TZOFFSETFROM:+0100
TZOFFSETTO:+0200
TZNAME:CEST
DTSTART:20270328T010000
END:DAYLIGHT
BEGIN:STANDARD
TZOFFSETFROM:+0200
TZOFFSETTO:+0100
TZNAME:CET
DTSTART:20271031T010000
END:STANDARD
END:VTIMEZONE
BEGIN:VEVENT
DTSTART;TZID=Europe/Berlin:20260421T170000
DTEND;TZID=Europe/Berlin:20260421T181500
DTSTAMP:20260420T183859
CREATED:20260302T080602Z
LAST-MODIFIED:20260302T080602Z
UID:5646-1776790800-1776795300@www.fc-eiche-sippersfeld.de
SUMMARY:Training E-J
DESCRIPTION:
URL:https://www.fc-eiche-sippersfeld.de/event/training-e-j-17/
LOCATION:Sportplatzstraße 5\, 67729 Sippersfeld\, Sportplatzstraße 5\, Sippersfeld\, 67729\, Germany
CATEGORIES:Training Jugend
END:VEVENT
BEGIN:VEVENT
DTSTART;TZID=Europe/Berlin:20260421T190000
DTEND;TZID=Europe/Berlin:20260421T203000
DTSTAMP:20260420T183859
CREATED:20260304T061927Z
LAST-MODIFIED:20260304T061927Z
UID:5681-1776798000-1776803400@www.fc-eiche-sippersfeld.de
SUMMARY:Training Aktive
DESCRIPTION:
URL:https://www.fc-eiche-sippersfeld.de/event/training-aktive-3/
LOCATION:Sportplatzstraße 5\, 67729 Sippersfeld\, Sportplatzstraße 5\, Sippersfeld\, 67729\, Germany
CATEGORIES:Training Aktive
END:VEVENT
BEGIN:VEVENT
DTSTART;TZID=Europe/Berlin:20260422T190000
DTEND;TZID=Europe/Berlin:20260422T203000
DTSTAMP:20260420T183859
CREATED:20260417T095616Z
LAST-MODIFIED:20260417T095616Z
UID:5809-1776884400-1776889800@www.fc-eiche-sippersfeld.de
SUMMARY:AH Training
DESCRIPTION:
URL:https://www.fc-eiche-sippersfeld.de/event/ah-training/
LOCATION:Sportplatzstraße 5\, 67729 Sippersfeld\, Sportplatzstraße 5\, Sippersfeld\, 67729\, Germany
CATEGORIES:Training AH
END:VEVENT
BEGIN:VEVENT
DTSTART;TZID=Europe/Berlin:20260423T190000
DTEND;TZID=Europe/Berlin:20260423T210000
DTSTAMP:20260420T183859
CREATED:20260212T060404Z
LAST-MODIFIED:20260417T093209Z
UID:5579-1776970800-1776978000@www.fc-eiche-sippersfeld.de
SUMMARY:SG Eiche vs. SG Otterberg
DESCRIPTION:
URL:https://www.fc-eiche-sippersfeld.de/event/sg-eiche-vs-sg-otterberg/
LOCATION:Sportplatzstraße 5\, 67729 Sippersfeld\, Sportplatzstraße 5\, Sippersfeld\, 67729\, Germany
CATEGORIES:Spiel
ATTACH;FMTTYPE=image/jpeg:https://www.fc-eiche-sippersfeld.de/wp-content/uploads/6666.jpg
END:VEVENT
BEGIN:VEVENT
DTSTART;TZID=Europe/Berlin:20260428T170000
DTEND;TZID=Europe/Berlin:20260428T181500
DTSTAMP:20260420T183859
CREATED:20260302T080633Z
LAST-MODIFIED:20260302T080633Z
UID:5648-1777395600-1777400100@www.fc-eiche-sippersfeld.de
SUMMARY:Training E-J
DESCRIPTION:
URL:https://www.fc-eiche-sippersfeld.de/event/training-e-j-18/
LOCATION:Sportplatzstraße 5\, 67729 Sippersfeld\, Sportplatzstraße 5\, Sippersfeld\, 67729\, Germany
CATEGORIES:Training Jugend
END:VEVENT
BEGIN:VEVENT
DTSTART;TZID=Europe/Berlin:20260428T190000
DTEND;TZID=Europe/Berlin:20260428T203000
DTSTAMP:20260420T183859
CREATED:20260304T061953Z
LAST-MODIFIED:20260304T061953Z
UID:5683-1777402800-1777408200@www.fc-eiche-sippersfeld.de
SUMMARY:Training Aktive
DESCRIPTION:
URL:https://www.fc-eiche-sippersfeld.de/event/training-aktive-4/
LOCATION:Sportplatzstraße 5\, 67729 Sippersfeld\, Sportplatzstraße 5\, Sippersfeld\, 67729\, Germany
CATEGORIES:Training Aktive
END:VEVENT
BEGIN:VEVENT
DTSTART;TZID=Europe/Berlin:20260429T193000
DTEND;TZID=Europe/Berlin:20260429T213000
DTSTAMP:20260420T183859
CREATED:20260212T055439Z
LAST-MODIFIED:20260304T061309Z
UID:5570-1777491000-1777498200@www.fc-eiche-sippersfeld.de
SUMMARY:SG Eiche vs. FC Erlenbach
DESCRIPTION:
URL:https://www.fc-eiche-sippersfeld.de/event/sg-eiche-vs-fc-erlenbach/
LOCATION:Sportplatzstraße 5\, 67729 Sippersfeld\, Sportplatzstraße 5\, Sippersfeld\, 67729\, Germany
CATEGORIES:Spiel
ATTACH;FMTTYPE=image/jpeg:https://www.fc-eiche-sippersfeld.de/wp-content/uploads/3333.jpg
END:VEVENT
BEGIN:VEVENT
DTSTART;TZID=Europe/Berlin:20260430T190000
DTEND;TZID=Europe/Berlin:20260430T201500
DTSTAMP:20260420T183859
CREATED:20260302T081224Z
LAST-MODIFIED:20260302T081224Z
UID:5662-1777575600-1777580100@www.fc-eiche-sippersfeld.de
SUMMARY:Training AH
DESCRIPTION:
URL:https://www.fc-eiche-sippersfeld.de/event/training-ah-18/
LOCATION:Sportplatzstraße 5\, 67729 Sippersfeld\, Sportplatzstraße 5\, Sippersfeld\, 67729\, Germany
CATEGORIES:Training AH
END:VEVENT
BEGIN:VEVENT
DTSTART;TZID=Europe/Berlin:20260430T193000
DTEND;TZID=Europe/Berlin:20260430T210000
DTSTAMP:20260420T183859
CREATED:20260304T062538Z
LAST-MODIFIED:20260304T062538Z
UID:5701-1777577400-1777582800@www.fc-eiche-sippersfeld.de
SUMMARY:Training Aktive
DESCRIPTION:
URL:https://www.fc-eiche-sippersfeld.de/event/training-aktive-13/
LOCATION:Sportplatzstraße 5\, 67729 Sippersfeld\, Sportplatzstraße 5\, Sippersfeld\, 67729\, Germany
CATEGORIES:Training Aktive
END:VEVENT
BEGIN:VEVENT
DTSTART;TZID=Europe/Berlin:20260505T170000
DTEND;TZID=Europe/Berlin:20260505T181500
DTSTAMP:20260420T183859
CREATED:20260302T080734Z
LAST-MODIFIED:20260302T080734Z
UID:5650-1778000400-1778004900@www.fc-eiche-sippersfeld.de
SUMMARY:Training E-J
DESCRIPTION:
URL:https://www.fc-eiche-sippersfeld.de/event/training-e-j-19/
LOCATION:Sportplatzstraße 5\, 67729 Sippersfeld\, Sportplatzstraße 5\, Sippersfeld\, 67729\, Germany
CATEGORIES:Training Jugend
END:VEVENT
BEGIN:VEVENT
DTSTART;TZID=Europe/Berlin:20260505T190000
DTEND;TZID=Europe/Berlin:20260505T203000
DTSTAMP:20260420T183859
CREATED:20260304T062121Z
LAST-MODIFIED:20260304T062121Z
UID:5687-1778007600-1778013000@www.fc-eiche-sippersfeld.de
SUMMARY:Training Aktive
DESCRIPTION:
URL:https://www.fc-eiche-sippersfeld.de/event/training-aktive-6/
LOCATION:Sportplatzstraße 5\, 67729 Sippersfeld\, Sportplatzstraße 5\, Sippersfeld\, 67729\, Germany
CATEGORIES:Training Aktive
END:VEVENT
BEGIN:VEVENT
DTSTART;TZID=Europe/Berlin:20260507T190000
DTEND;TZID=Europe/Berlin:20260507T201500
DTSTAMP:20260420T183859
CREATED:20260302T081259Z
LAST-MODIFIED:20260302T081259Z
UID:5664-1778180400-1778184900@www.fc-eiche-sippersfeld.de
SUMMARY:Training AH
DESCRIPTION:
URL:https://www.fc-eiche-sippersfeld.de/event/training-ah-19/
LOCATION:Sportplatzstraße 5\, 67729 Sippersfeld\, Sportplatzstraße 5\, Sippersfeld\, 67729\, Germany
CATEGORIES:Training AH
END:VEVENT
BEGIN:VEVENT
DTSTART;TZID=Europe/Berlin:20260507T193000
DTEND;TZID=Europe/Berlin:20260507T210000
DTSTAMP:20260420T183859
CREATED:20260304T062635Z
LAST-MODIFIED:20260304T062635Z
UID:5703-1778182200-1778187600@www.fc-eiche-sippersfeld.de
SUMMARY:Training Aktive
DESCRIPTION:
URL:https://www.fc-eiche-sippersfeld.de/event/training-aktive-14/
LOCATION:Sportplatzstraße 5\, 67729 Sippersfeld\, Sportplatzstraße 5\, Sippersfeld\, 67729\, Germany
CATEGORIES:Training Aktive
END:VEVENT
BEGIN:VEVENT
DTSTART;TZID=Europe/Berlin:20260508T180000
DTEND;TZID=Europe/Berlin:20260508T223000
DTSTAMP:20260420T183859
CREATED:20260323T061406Z
LAST-MODIFIED:20260323T061406Z
UID:5760-1778263200-1778279400@www.fc-eiche-sippersfeld.de
SUMMARY:2.EICHE 11er-CUP
DESCRIPTION:
URL:https://www.fc-eiche-sippersfeld.de/event/2-eiche-11er-cup/
LOCATION:Sportplatzstraße 5\, 67729 Sippersfeld\, Sportplatzstraße 5\, Sippersfeld\, 67729\, Germany
CATEGORIES:Veranstaltung
ATTACH;FMTTYPE=image/jpeg:https://www.fc-eiche-sippersfeld.de/wp-content/uploads/2.Eiche-Elfer-Cup_8.5.26.jpg
END:VEVENT
BEGIN:VEVENT
DTSTART;TZID=Europe/Berlin:20260510T150000
DTEND;TZID=Europe/Berlin:20260510T170000
DTSTAMP:20260420T183859
CREATED:20260212T060546Z
LAST-MODIFIED:20260212T060546Z
UID:5582-1778425200-1778432400@www.fc-eiche-sippersfeld.de
SUMMARY:SG Eiche vs. SG Rockenhausen II
DESCRIPTION:
URL:https://www.fc-eiche-sippersfeld.de/event/sg-eiche-vs-sg-rockenhausen-ii/
LOCATION:Sportplatzstraße 5\, 67729 Sippersfeld\, Sportplatzstraße 5\, Sippersfeld\, 67729\, Germany
CATEGORIES:Spiel
ATTACH;FMTTYPE=image/jpeg:https://www.fc-eiche-sippersfeld.de/wp-content/uploads/7777.jpg
END:VEVENT
BEGIN:VEVENT
DTSTART;TZID=Europe/Berlin:20260512T170000
DTEND;TZID=Europe/Berlin:20260512T181500
DTSTAMP:20260420T183859
CREATED:20260302T080817Z
LAST-MODIFIED:20260302T080817Z
UID:5652-1778605200-1778609700@www.fc-eiche-sippersfeld.de
SUMMARY:Training E-J
DESCRIPTION:
URL:https://www.fc-eiche-sippersfeld.de/event/training-e-j-20/
LOCATION:Sportplatzstraße 5\, 67729 Sippersfeld\, Sportplatzstraße 5\, Sippersfeld\, 67729\, Germany
CATEGORIES:Training Jugend
END:VEVENT
BEGIN:VEVENT
DTSTART;TZID=Europe/Berlin:20260512T190000
DTEND;TZID=Europe/Berlin:20260512T203000
DTSTAMP:20260420T183859
CREATED:20260304T062147Z
LAST-MODIFIED:20260304T062147Z
UID:5689-1778612400-1778617800@www.fc-eiche-sippersfeld.de
SUMMARY:Training Aktive
DESCRIPTION:
URL:https://www.fc-eiche-sippersfeld.de/event/training-aktive-7/
LOCATION:Sportplatzstraße 5\, 67729 Sippersfeld\, Sportplatzstraße 5\, Sippersfeld\, 67729\, Germany
CATEGORIES:Training Aktive
END:VEVENT
BEGIN:VEVENT
DTSTART;VALUE=DATE:20260514
DTEND;VALUE=DATE:20260515
DTSTAMP:20260420T183859
CREATED:20260212T061338Z
LAST-MODIFIED:20260212T061338Z
UID:5594-1778716800-1778803199@www.fc-eiche-sippersfeld.de
SUMMARY:Christi Himmelfahrt
DESCRIPTION:
URL:https://www.fc-eiche-sippersfeld.de/event/christi-himmelfahrt/
CATEGORIES:Ferien
END:VEVENT
BEGIN:VEVENT
DTSTART;TZID=Europe/Berlin:20260519T170000
DTEND;TZID=Europe/Berlin:20260519T181500
DTSTAMP:20260420T183859
CREATED:20260302T080904Z
LAST-MODIFIED:20260302T080904Z
UID:5654-1779210000-1779214500@www.fc-eiche-sippersfeld.de
SUMMARY:Training E-J
DESCRIPTION:
URL:https://www.fc-eiche-sippersfeld.de/event/training-e-j-21/
LOCATION:Sportplatzstraße 5\, 67729 Sippersfeld\, Sportplatzstraße 5\, Sippersfeld\, 67729\, Germany
CATEGORIES:Training Jugend
END:VEVENT
BEGIN:VEVENT
DTSTART;TZID=Europe/Berlin:20260519T190000
DTEND;TZID=Europe/Berlin:20260519T203000
DTSTAMP:20260420T183859
CREATED:20260304T062216Z
LAST-MODIFIED:20260304T062216Z
UID:5691-1779217200-1779222600@www.fc-eiche-sippersfeld.de
SUMMARY:Training Aktive
DESCRIPTION:
URL:https://www.fc-eiche-sippersfeld.de/event/training-aktive-8/
LOCATION:Sportplatzstraße 5\, 67729 Sippersfeld\, Sportplatzstraße 5\, Sippersfeld\, 67729\, Germany
CATEGORIES:Training Aktive
END:VEVENT
BEGIN:VEVENT
DTSTART;TZID=Europe/Berlin:20260521T190000
DTEND;TZID=Europe/Berlin:20260521T201500
DTSTAMP:20260420T183859
CREATED:20260302T081352Z
LAST-MODIFIED:20260302T081352Z
UID:5666-1779390000-1779394500@www.fc-eiche-sippersfeld.de
SUMMARY:Training AH
DESCRIPTION:
URL:https://www.fc-eiche-sippersfeld.de/event/training-ah-20/
LOCATION:Sportplatzstraße 5\, 67729 Sippersfeld\, Sportplatzstraße 5\, Sippersfeld\, 67729\, Germany
CATEGORIES:Training AH
END:VEVENT
BEGIN:VEVENT
DTSTART;TZID=Europe/Berlin:20260521T193000
DTEND;TZID=Europe/Berlin:20260521T210000
DTSTAMP:20260420T183859
CREATED:20260304T062700Z
LAST-MODIFIED:20260304T062700Z
UID:5705-1779391800-1779397200@www.fc-eiche-sippersfeld.de
SUMMARY:Training Aktive
DESCRIPTION:
URL:https://www.fc-eiche-sippersfeld.de/event/training-aktive-15/
LOCATION:Sportplatzstraße 5\, 67729 Sippersfeld\, Sportplatzstraße 5\, Sippersfeld\, 67729\, Germany
CATEGORIES:Training Aktive
END:VEVENT
BEGIN:VEVENT
DTSTART;TZID=Europe/Berlin:20260522T190000
DTEND;TZID=Europe/Berlin:20260522T210000
DTSTAMP:20260420T183859
CREATED:20260323T061552Z
LAST-MODIFIED:20260323T061552Z
UID:5762-1779476400-1779483600@www.fc-eiche-sippersfeld.de
SUMMARY:Mitgliederversammlung mit Neuwahlen
DESCRIPTION:
URL:https://www.fc-eiche-sippersfeld.de/event/mitgliederversammlung-mit-neuwahlen/
LOCATION:Sportplatzstraße 5\, 67729 Sippersfeld\, Sportplatzstraße 5\, Sippersfeld\, 67729\, Germany
CATEGORIES:Veranstaltung
ATTACH;FMTTYPE=image/jpeg:https://www.fc-eiche-sippersfeld.de/wp-content/uploads/1Einladung-zur-Mitgliederversammlung-mit-Neuwahlen_2026-scaled.jpg
END:VEVENT
BEGIN:VEVENT
DTSTART;TZID=Europe/Berlin:20260524T150000
DTEND;TZID=Europe/Berlin:20260524T170000
DTSTAMP:20260420T183859
CREATED:20260212T060633Z
LAST-MODIFIED:20260212T060633Z
UID:5586-1779634800-1779642000@www.fc-eiche-sippersfeld.de
SUMMARY:SG Eiche vs. ASV Winnweiler
DESCRIPTION:
URL:https://www.fc-eiche-sippersfeld.de/event/sg-eiche-vs-asv-winnweiler/
LOCATION:Sportplatzstraße 5\, 67729 Sippersfeld\, Sportplatzstraße 5\, Sippersfeld\, 67729\, Germany
CATEGORIES:Spiel
ATTACH;FMTTYPE=image/jpeg:https://www.fc-eiche-sippersfeld.de/wp-content/uploads/8888.jpg
END:VEVENT
BEGIN:VEVENT
DTSTART;VALUE=DATE:20260525
DTEND;VALUE=DATE:20260526
DTSTAMP:20260420T183859
CREATED:20260212T061404Z
LAST-MODIFIED:20260212T061404Z
UID:5596-1779667200-1779753599@www.fc-eiche-sippersfeld.de
SUMMARY:Pfingstmontag
DESCRIPTION:
URL:https://www.fc-eiche-sippersfeld.de/event/pfingstmontag/
CATEGORIES:Ferien
END:VEVENT
BEGIN:VEVENT
DTSTART;VALUE=DATE:20260525
DTEND;VALUE=DATE:20260629
DTSTAMP:20260420T183859
CREATED:20260323T063017Z
LAST-MODIFIED:20260323T063017Z
UID:5770-1779667200-1782691199@www.fc-eiche-sippersfeld.de
SUMMARY:Platz voraussichtlich gesperrt
DESCRIPTION:
URL:https://www.fc-eiche-sippersfeld.de/event/platz-voraussichtlich-gesperrt/
LOCATION:Sportplatzstraße 5\, 67729 Sippersfeld\, Sportplatzstraße 5\, Sippersfeld\, 67729\, Germany
CATEGORIES:Platz gesperrt
ATTACH;FMTTYPE=image/jpeg:https://www.fc-eiche-sippersfeld.de/wp-content/uploads/platz-gesperrt.jpg
END:VEVENT
BEGIN:VEVENT
DTSTART;TZID=Europe/Berlin:20260526T170000
DTEND;TZID=Europe/Berlin:20260526T181500
DTSTAMP:20260420T183859
CREATED:20260302T080943Z
LAST-MODIFIED:20260302T080943Z
UID:5656-1779814800-1779819300@www.fc-eiche-sippersfeld.de
SUMMARY:Training E-J
DESCRIPTION:
URL:https://www.fc-eiche-sippersfeld.de/event/training-e-j-22/
LOCATION:Sportplatzstraße 5\, 67729 Sippersfeld\, Sportplatzstraße 5\, Sippersfeld\, 67729\, Germany
CATEGORIES:Training Jugend
END:VEVENT
BEGIN:VEVENT
DTSTART;TZID=Europe/Berlin:20260528T190000
DTEND;TZID=Europe/Berlin:20260528T201500
DTSTAMP:20260420T183859
CREATED:20260302T081427Z
LAST-MODIFIED:20260302T081427Z
UID:5668-1779994800-1779999300@www.fc-eiche-sippersfeld.de
SUMMARY:Training AH
DESCRIPTION:
URL:https://www.fc-eiche-sippersfeld.de/event/training-ah-21/
LOCATION:Sportplatzstraße 5\, 67729 Sippersfeld\, Sportplatzstraße 5\, Sippersfeld\, 67729\, Germany
CATEGORIES:Training AH
END:VEVENT
BEGIN:VEVENT
DTSTART;VALUE=DATE:20260604
DTEND;VALUE=DATE:20260605
DTSTAMP:20260420T183859
CREATED:20260212T061426Z
LAST-MODIFIED:20260212T061426Z
UID:5598-1780531200-1780617599@www.fc-eiche-sippersfeld.de
SUMMARY:Fronleichnam
DESCRIPTION:
URL:https://www.fc-eiche-sippersfeld.de/event/fronleichnam/
CATEGORIES:Ferien
END:VEVENT
BEGIN:VEVENT
DTSTART;VALUE=DATE:20260629
DTEND;VALUE=DATE:20260808
DTSTAMP:20260420T183859
CREATED:20260212T061500Z
LAST-MODIFIED:20260212T061500Z
UID:5600-1782691200-1786147199@www.fc-eiche-sippersfeld.de
SUMMARY:Sommerferien
DESCRIPTION:
URL:https://www.fc-eiche-sippersfeld.de/event/sommerferien/
CATEGORIES:Ferien
END:VEVENT
END:VCALENDAR