BEGIN:VCALENDAR
VERSION:2.0
PRODID:-//FC Eiche Sippersfeld e.V. - ECPv6.15.20//NONSGML v1.0//EN
CALSCALE:GREGORIAN
METHOD:PUBLISH
X-ORIGINAL-URL:https://www.fc-eiche-sippersfeld.de
X-WR-CALDESC:Veranstaltungen für FC Eiche Sippersfeld e.V.
REFRESH-INTERVAL;VALUE=DURATION:PT1H
X-Robots-Tag:noindex
X-PUBLISHED-TTL:PT1H
BEGIN:VTIMEZONE
TZID:Europe/Berlin
BEGIN:DAYLIGHT
TZOFFSETFROM:+0100
TZOFFSETTO:+0200
TZNAME:CEST
DTSTART:20250330T010000
END:DAYLIGHT
BEGIN:STANDARD
TZOFFSETFROM:+0200
TZOFFSETTO:+0100
TZNAME:CET
DTSTART:20251026T010000
END:STANDARD
BEGIN:DAYLIGHT
TZOFFSETFROM:+0100
TZOFFSETTO:+0200
TZNAME:CEST
DTSTART:20260329T010000
END:DAYLIGHT
BEGIN:STANDARD
TZOFFSETFROM:+0200
TZOFFSETTO:+0100
TZNAME:CET
DTSTART:20261025T010000
END:STANDARD
BEGIN:DAYLIGHT
TZOFFSETFROM:+0100
TZOFFSETTO:+0200
TZNAME:CEST
DTSTART:20270328T010000
END:DAYLIGHT
BEGIN:STANDARD
TZOFFSETFROM:+0200
TZOFFSETTO:+0100
TZNAME:CET
DTSTART:20271031T010000
END:STANDARD
END:VTIMEZONE
BEGIN:VEVENT
DTSTART;TZID=Europe/Berlin:20260326T180000
DTEND;TZID=Europe/Berlin:20260326T190000
DTSTAMP:20260420T200623
CREATED:20260302T075344Z
LAST-MODIFIED:20260302T075802Z
UID:5623-1774548000-1774551600@www.fc-eiche-sippersfeld.de
SUMMARY:E1 + E2 Spiele
DESCRIPTION:
URL:https://www.fc-eiche-sippersfeld.de/event/e1-e2-spiele-2/
LOCATION:Sportplatzstraße 5\, 67729 Sippersfeld\, Sportplatzstraße 5\, Sippersfeld\, 67729\, Germany
CATEGORIES:Jugendspiel
ATTACH;FMTTYPE=image/jpeg:https://www.fc-eiche-sippersfeld.de/wp-content/uploads/3333333.jpg
END:VEVENT
BEGIN:VEVENT
DTSTART;TZID=Europe/Berlin:20260326T190000
DTEND;TZID=Europe/Berlin:20260326T201500
DTSTAMP:20260420T200623
CREATED:20260302T080318Z
LAST-MODIFIED:20260302T080318Z
UID:5642-1774551600-1774556100@www.fc-eiche-sippersfeld.de
SUMMARY:Training AH
DESCRIPTION:
URL:https://www.fc-eiche-sippersfeld.de/event/training-ah-15/
LOCATION:Sportplatzstraße 5\, 67729 Sippersfeld\, Sportplatzstraße 5\, Sippersfeld\, 67729\, Germany
CATEGORIES:Training AH
END:VEVENT
BEGIN:VEVENT
DTSTART;TZID=Europe/Berlin:20260326T193000
DTEND;TZID=Europe/Berlin:20260326T210000
DTSTAMP:20260420T200623
CREATED:20260212T062541Z
LAST-MODIFIED:20260302T075412Z
UID:5617-1774553400-1774558800@www.fc-eiche-sippersfeld.de
SUMMARY:Training 1.M
DESCRIPTION:
URL:https://www.fc-eiche-sippersfeld.de/event/training-1-m-7/
LOCATION:Sportplatzstraße 5\, 67729 Sippersfeld\, Sportplatzstraße 5\, Sippersfeld\, 67729\, Germany
CATEGORIES:Training Aktive
END:VEVENT
END:VCALENDAR