BEGIN:VCALENDAR
VERSION:2.0
PRODID:-//FC Eiche Sippersfeld e.V. - ECPv6.15.20//NONSGML v1.0//EN
CALSCALE:GREGORIAN
METHOD:PUBLISH
X-WR-CALNAME:FC Eiche Sippersfeld e.V.
X-ORIGINAL-URL:https://www.fc-eiche-sippersfeld.de
X-WR-CALDESC:Veranstaltungen für FC Eiche Sippersfeld e.V.
REFRESH-INTERVAL;VALUE=DURATION:PT1H
X-Robots-Tag:noindex
X-PUBLISHED-TTL:PT1H
BEGIN:VTIMEZONE
TZID:Europe/Berlin
BEGIN:DAYLIGHT
TZOFFSETFROM:+0100
TZOFFSETTO:+0200
TZNAME:CEST
DTSTART:20250330T010000
END:DAYLIGHT
BEGIN:STANDARD
TZOFFSETFROM:+0200
TZOFFSETTO:+0100
TZNAME:CET
DTSTART:20251026T010000
END:STANDARD
BEGIN:DAYLIGHT
TZOFFSETFROM:+0100
TZOFFSETTO:+0200
TZNAME:CEST
DTSTART:20260329T010000
END:DAYLIGHT
BEGIN:STANDARD
TZOFFSETFROM:+0200
TZOFFSETTO:+0100
TZNAME:CET
DTSTART:20261025T010000
END:STANDARD
BEGIN:DAYLIGHT
TZOFFSETFROM:+0100
TZOFFSETTO:+0200
TZNAME:CEST
DTSTART:20270328T010000
END:DAYLIGHT
BEGIN:STANDARD
TZOFFSETFROM:+0200
TZOFFSETTO:+0100
TZNAME:CET
DTSTART:20271031T010000
END:STANDARD
END:VTIMEZONE
BEGIN:VEVENT
DTSTART;TZID=Europe/Berlin:20260324T170000
DTEND;TZID=Europe/Berlin:20260324T181500
DTSTAMP:20260420T200444
CREATED:20260302T075953Z
LAST-MODIFIED:20260302T075953Z
UID:5636-1774371600-1774376100@www.fc-eiche-sippersfeld.de
SUMMARY:Training E-J
DESCRIPTION:
URL:https://www.fc-eiche-sippersfeld.de/event/training-e-j-15/
LOCATION:Sportplatzstraße 5\, 67729 Sippersfeld\, Sportplatzstraße 5\, Sippersfeld\, 67729\, Germany
CATEGORIES:Training Jugend
END:VEVENT
BEGIN:VEVENT
DTSTART;TZID=Europe/Berlin:20260324T190000
DTEND;TZID=Europe/Berlin:20260324T203000
DTSTAMP:20260420T200444
CREATED:20260212T062502Z
LAST-MODIFIED:20260212T062502Z
UID:5615-1774378800-1774384200@www.fc-eiche-sippersfeld.de
SUMMARY:Training 1.M
DESCRIPTION:
URL:https://www.fc-eiche-sippersfeld.de/event/training-1-m-6/
LOCATION:Sportplatzstraße 5\, 67729 Sippersfeld\, Sportplatzstraße 5\, Sippersfeld\, 67729\, Germany
CATEGORIES:Training Aktive
END:VEVENT
END:VCALENDAR