BEGIN:VCALENDAR
VERSION:2.0
PRODID:-//FC Eiche Sippersfeld e.V. - ECPv6.15.20//NONSGML v1.0//EN
CALSCALE:GREGORIAN
METHOD:PUBLISH
X-WR-CALNAME:FC Eiche Sippersfeld e.V.
X-ORIGINAL-URL:https://www.fc-eiche-sippersfeld.de
X-WR-CALDESC:Veranstaltungen für FC Eiche Sippersfeld e.V.
REFRESH-INTERVAL;VALUE=DURATION:PT1H
X-Robots-Tag:noindex
X-PUBLISHED-TTL:PT1H
BEGIN:VTIMEZONE
TZID:Europe/Berlin
BEGIN:DAYLIGHT
TZOFFSETFROM:+0100
TZOFFSETTO:+0200
TZNAME:CEST
DTSTART:20250330T010000
END:DAYLIGHT
BEGIN:STANDARD
TZOFFSETFROM:+0200
TZOFFSETTO:+0100
TZNAME:CET
DTSTART:20251026T010000
END:STANDARD
BEGIN:DAYLIGHT
TZOFFSETFROM:+0100
TZOFFSETTO:+0200
TZNAME:CEST
DTSTART:20260329T010000
END:DAYLIGHT
BEGIN:STANDARD
TZOFFSETFROM:+0200
TZOFFSETTO:+0100
TZNAME:CET
DTSTART:20261025T010000
END:STANDARD
BEGIN:DAYLIGHT
TZOFFSETFROM:+0100
TZOFFSETTO:+0200
TZNAME:CEST
DTSTART:20270328T010000
END:DAYLIGHT
BEGIN:STANDARD
TZOFFSETFROM:+0200
TZOFFSETTO:+0100
TZNAME:CET
DTSTART:20271031T010000
END:STANDARD
END:VTIMEZONE
BEGIN:VEVENT
DTSTART;TZID=Europe/Berlin:20260319T190000
DTEND;TZID=Europe/Berlin:20260319T201500
DTSTAMP:20260420T200444
CREATED:20260302T080239Z
LAST-MODIFIED:20260302T080239Z
UID:5640-1773946800-1773951300@www.fc-eiche-sippersfeld.de
SUMMARY:Training AH
DESCRIPTION:
URL:https://www.fc-eiche-sippersfeld.de/event/training-ah-14/
LOCATION:Sportplatzstraße 5\, 67729 Sippersfeld\, Sportplatzstraße 5\, Sippersfeld\, 67729\, Germany
CATEGORIES:Training AH
END:VEVENT
BEGIN:VEVENT
DTSTART;TZID=Europe/Berlin:20260319T190000
DTEND;TZID=Europe/Berlin:20260319T203000
DTSTAMP:20260420T200444
CREATED:20260212T062307Z
LAST-MODIFIED:20260212T062307Z
UID:5613-1773946800-1773952200@www.fc-eiche-sippersfeld.de
SUMMARY:Training 1.M
DESCRIPTION:
URL:https://www.fc-eiche-sippersfeld.de/event/training-1-m-5/
CATEGORIES:Training Aktive
END:VEVENT
END:VCALENDAR